BEGIN:VCALENDAR
VERSION:2.0
PRODID:-//Ridgeway Baptist Church - ECPv6.15.11//NONSGML v1.0//EN
CALSCALE:GREGORIAN
METHOD:PUBLISH
X-WR-CALNAME:Ridgeway Baptist Church
X-ORIGINAL-URL:https://www.ridgewaybaptist.org
X-WR-CALDESC:Events for Ridgeway Baptist Church
REFRESH-INTERVAL;VALUE=DURATION:PT1H
X-Robots-Tag:noindex
X-PUBLISHED-TTL:PT1H
BEGIN:VTIMEZONE
TZID:America/Chicago
BEGIN:DAYLIGHT
TZOFFSETFROM:-0600
TZOFFSETTO:-0500
TZNAME:CDT
DTSTART:20250309T080000
END:DAYLIGHT
BEGIN:STANDARD
TZOFFSETFROM:-0500
TZOFFSETTO:-0600
TZNAME:CST
DTSTART:20251102T070000
END:STANDARD
BEGIN:DAYLIGHT
TZOFFSETFROM:-0600
TZOFFSETTO:-0500
TZNAME:CDT
DTSTART:20260308T080000
END:DAYLIGHT
BEGIN:STANDARD
TZOFFSETFROM:-0500
TZOFFSETTO:-0600
TZNAME:CST
DTSTART:20261101T070000
END:STANDARD
BEGIN:DAYLIGHT
TZOFFSETFROM:-0600
TZOFFSETTO:-0500
TZNAME:CDT
DTSTART:20270314T080000
END:DAYLIGHT
BEGIN:STANDARD
TZOFFSETFROM:-0500
TZOFFSETTO:-0600
TZNAME:CST
DTSTART:20271107T070000
END:STANDARD
END:VTIMEZONE
BEGIN:VEVENT
DTSTART;TZID=America/Chicago:20260322T113000
DTEND;TZID=America/Chicago:20260322T130000
DTSTAMP:20260425T130447
CREATED:20260307T185754Z
LAST-MODIFIED:20260307T185754Z
UID:1111822-1774179000-1774184400@www.ridgewaybaptist.org
SUMMARY:Widow/Widower Banquet
DESCRIPTION:Sign up for this wonderful time of fellowship and ministry. As always\, there is a great menu and it is free of charge. You can sign up in the Welcome Center Lobby or by calling the church office.
URL:https://www.ridgewaybaptist.org/event/widow-widower-banquet/
LOCATION:Fellowship Hall\, 2500 Ridgeway Road\, Memphis\, TN\, 38119\, United States
CATEGORIES:Adults,Churchwide
ATTACH;FMTTYPE=image/jpeg:https://www.ridgewaybaptist.org/wp-content/uploads/2026/03/widowbanquet.jpg
END:VEVENT
END:VCALENDAR